BEGIN:VCALENDAR
PRODID:-//eluceo/ical//2.0/EN
VERSION:2.0
CALSCALE:GREGORIAN
BEGIN:VEVENT
UID:f5eb09b8371268b3cea9c36a93cad1c9
DTSTAMP:20260421T012715Z
SUMMARY:Cultures of the World Lecture Series
DESCRIPTION:Jewish Federation of Greater Portland\n60s+\nhttps://jewishport
 land.org/60plus/cultures-of-the-world-lecture-series-1730745419-479754\n\n
 Week 1: Sponsored by Jewish National Fund. Learn how Project Wadi Attir is
  building a model for sustainable development that bridges people\, nature
 \, and culture in the Negev Desert. Supported by JNF-USA\, this initiative
  empowers local Bedouin communities\, promotes coexistence\, and showcases
  a holistic approach to sustainability that can inspire arid regions world
 wide.\nWeek 2: Hellenic-American Cultural Center and Museum (Greece)\nWeek
  3: Stefano Iaboni\, Italian magician and comedian\, will at...
DTSTART;TZID=America/Los_Angeles:20241107T190000
DTEND;TZID=America/Los_Angeles:20241107T210000
END:VEVENT
END:VCALENDAR
