BEGIN:VCALENDAR
PRODID:-//eluceo/ical//2.0/EN
VERSION:2.0
CALSCALE:GREGORIAN
BEGIN:VEVENT
UID:b441d7956c8978368b5cda8b82d75ad7
DTSTAMP:20260424T221832Z
SUMMARY:EJC & JFCS Senior Mixer and Social Hour
DESCRIPTION:Jewish Federation of Greater Portland\n60s+\nhttps://jewishport
 land.org/60plus/ejc--jfcs-senior-mixer-and-social-hour-1771464020-511559\n
 \nJoin us for a relaxed Senior Social Mixer\, an easygoing evening of conv
 ersation and connection
DTSTART;TZID=America/Los_Angeles:20260314T170000
DTEND;TZID=America/Los_Angeles:20260314T190000
END:VEVENT
END:VCALENDAR
