BEGIN:VCALENDAR
PRODID:-//eluceo/ical//2.0/EN
VERSION:2.0
CALSCALE:GREGORIAN
BEGIN:VEVENT
UID:993ea5870640c5e45832fd6df082e768
DTSTAMP:20260419T214018Z
SUMMARY:EJC Friday Noontime Concert
DESCRIPTION:Jewish Federation of Greater Portland\n60s+\nhttps://jewishport
 land.org/60plus/ejc-friday-noontime-concert-1709073764-460932\n\nKochleffe
 l Syndrome Klezmer Trio: Back by Popular Demand! Accordionist Martin Morge
 nbesser\, violinist Andrew Ehrlich\, and concertinist Liz Vilensky.
DTSTART;TZID=America/Los_Angeles:20240315T120000
DTEND;TZID=America/Los_Angeles:20240315T130000
END:VEVENT
END:VCALENDAR
