BEGIN:VCALENDAR
PRODID:-//eluceo/ical//2.0/EN
VERSION:2.0
CALSCALE:GREGORIAN
BEGIN:VEVENT
UID:f3723fd5c4d82580ada0d5e927d6581c
DTSTAMP:20260423T113909Z
SUMMARY:Genealogy Helping Hands Meeting
DESCRIPTION:Jewish Federation of Greater Portland\n60s+\nhttps://jewishport
 land.org/60plus/genealogy-helping-hands-meeting-1687550177-441462\n\nFree 
 genealogy help for everyone.\nSunday\, July 9 at 10:30 a.m. at the Hillsda
 le Public Library.
DTSTART;TZID=America/Los_Angeles:20230709T103000
DTEND;TZID=America/Los_Angeles:20230709T120000
END:VEVENT
END:VCALENDAR
