BEGIN:VCALENDAR
PRODID:-//eluceo/ical//2.0/EN
VERSION:2.0
CALSCALE:GREGORIAN
BEGIN:VEVENT
UID:4aa3ef0d80c0e3ebf16c08edd452eb7b
DTSTAMP:20260421T011641Z
SUMMARY:Hebrew Marathon
DESCRIPTION:Jewish Federation of Greater Portland\n60s+\nhttps://jewishport
 land.org/60plus/hebrew-marathon-shaarie-torah-154180\n\nEnjoy a fun day of
  Hebrew learning and education!
DTSTART;TZID=America/Los_Angeles:20150823T113000
DTEND;TZID=America/Los_Angeles:20150823T180000
END:VEVENT
END:VCALENDAR
