BEGIN:VCALENDAR
PRODID:-//eluceo/ical//2.0/EN
VERSION:2.0
CALSCALE:GREGORIAN
BEGIN:VEVENT
UID:9d7f8b2184f24245e8747d569c0801dc
DTSTAMP:20260421T201507Z
SUMMARY: "Inscribing Our Books of Life" with Harriet Cooke
DESCRIPTION:Jewish Federation of Greater Portland\n60s+\nhttps://jewishport
 land.org/60plus/inscribing-our-books-of-life-with-harriet-cooke-156745\n\n
 This workshop will give a synopsis of the Torah portions\, facilitate a sh
 ort meditation\, then a timed free writing process to help us get clarity 
 on the loose ends we need to tie up before moving forward with the New Yea
 r.
DTSTART;TZID=America/Los_Angeles:20150823T150000
DTEND;TZID=America/Los_Angeles:20150823T163000
END:VEVENT
END:VCALENDAR
