BEGIN:VCALENDAR
PRODID:-//eluceo/ical//2.0/EN
VERSION:2.0
CALSCALE:GREGORIAN
BEGIN:VEVENT
UID:b2c98e37cf9b58357cfafdb31a0fa9f9
DTSTAMP:20260422T102357Z
SUMMARY:Jewish Community Orchestra Fall Concert
DESCRIPTION:Jewish Federation of Greater Portland\n60s+\nhttps://jewishport
 land.org/60plus/jewish-community-orchestra-fall-concert-163575\n\nPieces b
 y Beethoven\, Bloch\, Mussorgsky\, Svensen\, and Sibelius.
DTSTART;TZID=America/Los_Angeles:20151108T150000
DTEND;TZID=America/Los_Angeles:20151108T180000
END:VEVENT
END:VCALENDAR
