BEGIN:VCALENDAR
PRODID:-//eluceo/ical//2.0/EN
VERSION:2.0
CALSCALE:GREGORIAN
BEGIN:VEVENT
UID:d85746d682ec98401e823041a4a7a0e2
DTSTAMP:20260421T231716Z
SUMMARY:Rosh Hashanah Service for Families with Young Children
DESCRIPTION:Jewish Federation of Greater Portland\n60s+\nhttps://jewishport
 land.org/60plus/rosh-hashanah-service-for-families-with-young-children-175
 5210904-498296\n\nFamilies with children in third grade and younger begin 
 5786 with a service designed just for them. Rabbi Rachel Joseph leads with
  music\, movement\, and interactive storytelling. At the conclusion of thi
 s service we will cross the street and join the Traditional Service in the
  Main Sanctuary to hear the Shofar blast together. \n\nLed by Rabbi Rachel
  Joseph\, Education Director Ben Sandler\, Artist-in-Residence Kim Schneid
 erman\, and musicians Tim Ribner and Arthur Steinhorn.\n\nCBI is delighted
 ...
DTSTART;TZID=America/Los_Angeles:20250923T110000
DTEND;TZID=America/Los_Angeles:20250923T120000
END:VEVENT
END:VCALENDAR
