BEGIN:VCALENDAR
PRODID:-//eluceo/ical//2.0/EN
VERSION:2.0
CALSCALE:GREGORIAN
BEGIN:VEVENT
UID:62c850bdb92380b2bf1bb614b15b2234
DTSTAMP:20260422T052021Z
SUMMARY:BB Camp's Virtual Chocolate Seder
DESCRIPTION:Jewish Federation of Greater Portland\nCommunity Calendar\nhttp
 s://jewishportland.org/community-calendar/5th-chocolate-seder\n\nVirtual C
 hocolate Seder\nApril 7\, 4pm\nGrades K-5\nZoom link: https://zoom.us/j/76
 0038653\n\nThe Fifth Annual Chocolate Seder is the best way to prepare for
  Passover in a fun and delicious way! Join us\, along with our friends at 
 Congregation Beth Israel\, for some fun\, games\, crafts\, and of course\,
  a chocolatey Seder! Please register at https://bbcamp.org/chocolate-seder
 / so we can send you instructions!\n\nContact Chanel with questions pdx@bb
 camp.org
DTSTART;TZID=America/Los_Angeles:20200407T160000
DTEND;TZID=America/Los_Angeles:20200407T173000
END:VEVENT
END:VCALENDAR
