BEGIN:VCALENDAR
PRODID:-//eluceo/ical//2.0/EN
VERSION:2.0
CALSCALE:GREGORIAN
BEGIN:VEVENT
UID:5eab5781e3649280ce5acd7c8428a60d
DTSTAMP:20260419T233931Z
SUMMARY:A Mizrachi Shavuot: Ritual with JIMENA
DESCRIPTION:Jewish Federation of Greater Portland\nCommunity Calendar\nhttp
 s://jewishportland.org/community-calendar/a-mizrachi-shavuot-ritual-with-j
 imena-1590164575\n\nJoin JIMENA and OneTable to celebrate Shavuot\, a Jewi
 sh harvest festival\, led by the Rabbi Tsipi Gabai — the first Moroccan 
 female rabbi and currently one of only four female Mizrahi/Sephardic rabbi
 s worldwide. We’ll welcome in Shabbat together singing sacred ancient Se
 phardic song cycles known as Piyyutim with percussionist Katja Cooper\, an
 d learn about Moroccan Jewish traditions & culture of Shavuot. Come with q
 uestions or stories to share.\n\nRegister here: https://bit.ly/3dZbKgE\n\
 n 
DTSTART;TZID=America/Los_Angeles:20200529T170000
DTEND;TZID=America/Los_Angeles:20200529T183000
END:VEVENT
END:VCALENDAR
