BEGIN:VCALENDAR
PRODID:-//eluceo/ical//2.0/EN
VERSION:2.0
CALSCALE:GREGORIAN
BEGIN:VEVENT
UID:3395f2f20e7795656606b6e0f488b909
DTSTAMP:20260422T171556Z
SUMMARY:A Virtual Conversation with Congressman Earl Blumenauer
DESCRIPTION:Jewish Federation of Greater Portland\nCommunity Calendar\nhttp
 s://jewishportland.org/community-calendar/a-virtual-conversation-with-cong
 ressman-earl-blumenauer-1588359250-350827\n\nShir Tikvah has a rare and ex
 citing opportunity to host Congressman Earl Blumenauer for virtual town ha
 ll.\n\nThe format will be loose and informal\, offering a chance to answer
  questions and get an update on what's going on in Washington\, DC right n
 ow.\n\nThis invitation is open to anyone identifying as Jewish and those w
 ho love them - so feel free to pass the word along.\n\nCongressman Blumena
 uer's office will be sending out the Zoom links. RSVP at ali@earlblumenaue
 r.com\n\n 
DTSTART;TZID=America/Los_Angeles:20200506T173000
DTEND;TZID=America/Los_Angeles:20200506T183000
END:VEVENT
END:VCALENDAR
