BEGIN:VCALENDAR
PRODID:-//eluceo/ical//2.0/EN
VERSION:2.0
CALSCALE:GREGORIAN
BEGIN:VEVENT
UID:fd23429354b99596cdf74c8005223b95
DTSTAMP:20260424T002709Z
SUMMARY:Abayudaya Shabbaton w/Rabbi Shadrach Mugoya – Open House Potluck 
 Brunch
DESCRIPTION:Jewish Federation of Greater Portland\nCommunity Calendar\nhttp
 s://jewishportland.org/community-calendar/abayudaya-shabbaton-wrabbi-shadr
 ach-mugoya-open-house-potluck-brunch\n\nRabbi (Levi) Shadrach Mugoya is a 
 member of the Abayudaya (“People of Judah”) of Eastern Uganda. Rabbi E
 ri of his village\, Namutumba\, appointed him to be his successor\, “a g
 reat honor and a great responsibility.”
DTSTART;TZID=America/Los_Angeles:20170723T100000
DTEND;TZID=America/Los_Angeles:20170723T140000
END:VEVENT
END:VCALENDAR
