BEGIN:VCALENDAR
PRODID:-//eluceo/ical//2.0/EN
VERSION:2.0
CALSCALE:GREGORIAN
BEGIN:VEVENT
UID:b0ee7fe04680616cbe39cd6eb7d2098e
DTSTAMP:20260419T230546Z
SUMMARY:Ahavath Achim: Community Shabbat Dinner - First Friday January
DESCRIPTION:Jewish Federation of Greater Portland\nCommunity Calendar\nhttp
 s://jewishportland.org/community-calendar/ahavath-achim-community-shabbat-
 dinner-first-friday-january\n\nRegistration is open for January's Communit
 y Shabbat Dinner! Who might be the chef\, and what delectable dishes are t
 hey preparing? How long will there remain any available seats? With which 
 Spanish romanza will Mark Abolofia serenade and sing with us?? Get your ti
 ckets! Seats sell out fast.\n\nhttps://ahavathachimpdx.weebly.com/monthly-
 shabbat-dinners.html
DTSTART;TZID=America/Los_Angeles:20260109T173000
DTEND;TZID=America/Los_Angeles:20260109T210000
END:VEVENT
END:VCALENDAR
