BEGIN:VCALENDAR
PRODID:-//eluceo/ical//2.0/EN
VERSION:2.0
CALSCALE:GREGORIAN
BEGIN:VEVENT
UID:754b82f0486c508d9fd5b7f50bea69fc
DTSTAMP:20260423T133236Z
SUMMARY:Ahavath Achim Hanukkah Party
DESCRIPTION:Jewish Federation of Greater Portland\nCommunity Calendar\nhttp
 s://jewishportland.org/community-calendar/ahavath-achim-hanukkah-party-163
 7174335\n\nCongregation Ahavath Achim will be celebrating Hanukkah on Tues
 day\, November 30th as a community. Join for a festive night full of candl
 e lighting\, hanukkah dinner\, bingo\, driedel\, music and more.\n$12/pers
 on\n$36/family\nBe a sponsor for $72 (to assure no one is turned away for 
 financial reasons)\nSpaces is limited for Covid restrictions so please RSV
 P right away.
DTSTART;TZID=America/Los_Angeles:20211130T173000
DTEND;TZID=America/Los_Angeles:20211130T200000
END:VEVENT
END:VCALENDAR
