BEGIN:VCALENDAR
PRODID:-//eluceo/ical//2.0/EN
VERSION:2.0
CALSCALE:GREGORIAN
BEGIN:VEVENT
UID:72282305dbb7c24f6da53f9452f5c9e4
DTSTAMP:20260425T195241Z
SUMMARY:Ahavath Achim: Tu B'Shevat Nature Walk ​and Frutikas Seder
DESCRIPTION:Jewish Federation of Greater Portland\nCommunity Calendar\nhttp
 s://jewishportland.org/community-calendar/ahavath-achim-tu-bshevat-5786\n\
 nJoin Ahavath Achim to celebrate Tu B'Shevat for some time in nature follo
 wed by a traditional Sephardic frutikas seder\, a custom of the Ladino-spe
 aking Ottoman Jews.
DTSTART;TZID=America/Los_Angeles:20260201T163000
DTEND;TZID=America/Los_Angeles:20260201T200000
END:VEVENT
END:VCALENDAR
