BEGIN:VCALENDAR
PRODID:-//eluceo/ical//2.0/EN
VERSION:2.0
CALSCALE:GREGORIAN
BEGIN:VEVENT
UID:c2e109a71a8f434ee1193f877397dd22
DTSTAMP:20260423T095707Z
SUMMARY:Ambassador Deborah Lipstadt\, A Career Retrospective
DESCRIPTION:Jewish Federation of Greater Portland\nCommunity Calendar\nhttp
 s://jewishportland.org/community-calendar/ambassador-deborah-lipstadt-a-ca
 reer-retrospective-1772718282\n\nLewis & Clark College welcomes Ambassador
  Deborah Lipstadt for a 1-hour free ticketed talk and Q&A.\n\nAmbassador D
 eborah Lipstadt is an American historian and diplomat. She served as the U
 nited States special envoy for monitoring and combating anti-semitism from
  2022 to 2025. Ambassador Lipstadt is currently the Dorot Professor of Mod
 ern Jewish History and Holocaust Studies at Emory University in Atlanta\, 
 Georgia.\n\nAmbassador Lipstadt is probably best known for having been sue
 d for libel b...
DTSTART;TZID=America/Los_Angeles:20260311T190000
DTEND;TZID=America/Los_Angeles:20260311T200000
END:VEVENT
END:VCALENDAR
