BEGIN:VCALENDAR
PRODID:-//eluceo/ical//2.0/EN
VERSION:2.0
CALSCALE:GREGORIAN
BEGIN:VEVENT
UID:181981b9a1f2193828124c50d327ea1f
DTSTAMP:20260421T021703Z
SUMMARY:BB Camp Gratitude Shabbat
DESCRIPTION:Jewish Federation of Greater Portland\nCommunity Calendar\nhttp
 s://jewishportland.org/community-calendar/bb-camp-gratitude-shabbat-160442
 7079\n\nBB Camp Gratitude Shabbat\n\nFriday\, November 20\, 5:00PM Pacific
  Time\n\nWith the season changing and all of the world’s uncertainties\,
  bring the warmth and magic of BB Camp into your home. Come together to ce
 lebrate virtual Gratitude Shabbat with our BB Camp community. All are welc
 ome. Bring your family\, roommates\, or pets to join in! We cannot wait to
  see you!\n\nREGISTER at https://bit.ly/34Turkj to receive zoom link
DTSTART;TZID=America/Los_Angeles:20201120T170000
DTEND;TZID=America/Los_Angeles:20201120T180000
END:VEVENT
END:VCALENDAR
