BEGIN:VCALENDAR
PRODID:-//eluceo/ical//2.0/EN
VERSION:2.0
CALSCALE:GREGORIAN
BEGIN:VEVENT
UID:950a77692351e27789c139be7161f39f
DTSTAMP:20260424T165944Z
SUMMARY:BB Camp's Central Coast Community Virtual Seder
DESCRIPTION:Jewish Federation of Greater Portland\nCommunity Calendar\nhttp
 s://jewishportland.org/community-calendar/bb-camps-central-coast-community
 -virtual-seder\n\nThe Central Coast Community Seder - Virtual Event\nTuesd
 ay\, March 30\, 5:30PM\n\nIn the true spirit of Passover\, BB Camp staff w
 ill lead a Virtual Seder with Passover activities and traditions.\n\nWe in
 vite our Central Coast Jewish Community for an evening of reflection and c
 elebration from the comfort of your own home.\n\nREGISTER HERE\n\nA list o
 f ceremonial foods will be included (in case you wish to participate in th
 is way) or bring creative alternatives from what you have on hand.\n\nIf y
 ...
DTSTART;TZID=America/Los_Angeles:20210330T173000
DTEND;TZID=America/Los_Angeles:20210330T190000
END:VEVENT
END:VCALENDAR
