BEGIN:VCALENDAR
PRODID:-//eluceo/ical//2.0/EN
VERSION:2.0
CALSCALE:GREGORIAN
BEGIN:VEVENT
UID:1e330241f53febf864661e066e8bb7ee
DTSTAMP:20260425T172616Z
SUMMARY:Beaverton Pride
DESCRIPTION:Jewish Federation of Greater Portland\nCommunity Calendar\nhttp
 s://jewishportland.org/community-calendar/beaverton-pride\n\nAt Beaverton 
 Pride\, we'll also be hosting a communal booth at the vendor fair — a 
 fantastic opportunity to connect with the broader community and share what
  makes our organizations so special. Reach out to Rachel Nelson rachel@jew
 ishportland.org if your organization is interested in participating in the
  booth and/or marching together as a Jewish community.
DTSTART;TZID=America/Los_Angeles:20260628T000000
DTEND;TZID=America/Los_Angeles:20260628T235959
END:VEVENT
END:VCALENDAR
