BEGIN:VCALENDAR
PRODID:-//eluceo/ical//2.0/EN
VERSION:2.0
CALSCALE:GREGORIAN
BEGIN:VEVENT
UID:415ccefaec97516663d6da77fa1147c8
DTSTAMP:20260423T114759Z
SUMMARY:Bethanie's Room Volunteer Project at the MJCC
DESCRIPTION:Jewish Federation of Greater Portland\nCommunity Calendar\nhttp
 s://jewishportland.org/community-calendar/bethanies-room-volunteer-project
 -at-the-mjcc-1771952611-511916\n\nJoin us as we put together sack dinners
  for the new women's shelter\, Bethanie's Room.\n\nSupplies are provided 
 through a generous grant provided by the Women's Giving Circle.\n\nThis is
  open to all ages and there is no cost. Registration opens on March 11th.\
 n\nPlease register on the MJCC website.
DTSTART;TZID=America/Los_Angeles:20260330T180000
DTEND;TZID=America/Los_Angeles:20260330T190000
END:VEVENT
END:VCALENDAR
