BEGIN:VCALENDAR
PRODID:-//eluceo/ical//2.0/EN
VERSION:2.0
CALSCALE:GREGORIAN
BEGIN:VEVENT
UID:edafd76a7b49394e726b5f8947d93cb2
DTSTAMP:20260421T013636Z
SUMMARY:CANCELLED - Book Talk: Famous Father Girl: A Memoir
DESCRIPTION:Jewish Federation of Greater Portland\nCommunity Calendar\nhttp
 s://jewishportland.org/community-calendar/book-talk-famous-father-girl-a-m
 emoir-1582837610\n\nJoin fellow community members while discussing this me
 moir by the oldest daughter of revered composer Leonard Bernstein
DTSTART;TZID=America/Los_Angeles:20200315T160000
DTEND;TZID=America/Los_Angeles:20200315T180000
END:VEVENT
END:VCALENDAR
