BEGIN:VCALENDAR
PRODID:-//eluceo/ical//2.0/EN
VERSION:2.0
CALSCALE:GREGORIAN
BEGIN:VEVENT
UID:9a801b013a1de7ad7fbada31449a23c9
DTSTAMP:20260419T134228Z
SUMMARY:Cantor Slam! Behind the Scenes with Cantor Cahana
DESCRIPTION:Jewish Federation of Greater Portland\nCommunity Calendar\nhttp
 s://jewishportland.org/community-calendar/cantor-slam-behind-the-scenes-wi
 th-cantor-cahana-1585171143\n\nHelp Cantor Cahana pick the best new Jewish
  music for future CBI services and events.\n\nZoom Information:\nhttps://z
 oom.us/j/366640376\nOR dial in at 346-248-7799 and enter meeting ID 366-64
 0-376\n\nMore virtual programs and connections with CBI can be found here:
  https://www.bethisrael-pdx.org/connections/
DTSTART;TZID=America/Los_Angeles:20200331T150000
DTEND;TZID=America/Los_Angeles:20200331T160000
END:VEVENT
END:VCALENDAR
