BEGIN:VCALENDAR
PRODID:-//eluceo/ical//2.0/EN
VERSION:2.0
CALSCALE:GREGORIAN
BEGIN:VEVENT
UID:626fc5e991d5a6f0e22ca7f745c44c49
DTSTAMP:20260424T092303Z
SUMMARY:Cedar Sinai Park Annual Meeting
DESCRIPTION:Jewish Federation of Greater Portland\nCommunity Calendar\nhttp
 s://jewishportland.org/community-calendar/cedar-sinai-park-annual-meeting-
 1486073386\n\nThe Cedar Sinai Park Annual Meeting of the Board
DTSTART;TZID=America/Los_Angeles:20170606T190000
DTEND;TZID=America/Los_Angeles:20170606T210000
END:VEVENT
END:VCALENDAR
