BEGIN:VCALENDAR
PRODID:-//eluceo/ical//2.0/EN
VERSION:2.0
CALSCALE:GREGORIAN
BEGIN:VEVENT
UID:b86da9bc2548aab083b4e8b39ccc9ff6
DTSTAMP:20260425T135749Z
SUMMARY:Challah Baking & Erev Tot Shabbat 1
DESCRIPTION:Jewish Federation of Greater Portland\nCommunity Calendar\nhttp
 s://jewishportland.org/community-calendar/challah-baking--erev-tot-shabbat
 -1-14751\n\nChallah Baking & Erev Tot Shabbat. Free. RSVP to abrodkin@maay
 anpdx.org\, Ages: Up to 5 years
DTSTART;TZID=America/Los_Angeles:20140131T111500
DTEND;TZID=America/Los_Angeles:20140131T120000
END:VEVENT
END:VCALENDAR
