BEGIN:VCALENDAR
PRODID:-//eluceo/ical//2.0/EN
VERSION:2.0
CALSCALE:GREGORIAN
BEGIN:VEVENT
UID:d5c3d0cf4236a2ab07e36f4fc8a751ef
DTSTAMP:20260420T123828Z
SUMMARY:Challah Baking & Erev Tot Shabbat 3
DESCRIPTION:Jewish Federation of Greater Portland\nCommunity Calendar\nhttp
 s://jewishportland.org/community-calendar/challah-baking-erev-tot-shabbat-
 3\n\nChallah Baking & Erev Tot Shabbat. Free. RSVP to abrodkin@maayanpdx.o
 rg. Ages: Up to 5 years
DTSTART;TZID=America/Los_Angeles:20140221T111500
DTEND;TZID=America/Los_Angeles:20140221T120000
END:VEVENT
END:VCALENDAR
