BEGIN:VCALENDAR
PRODID:-//eluceo/ical//2.0/EN
VERSION:2.0
CALSCALE:GREGORIAN
BEGIN:VEVENT
UID:51668c483e4a4d07fd4f82b9b8562fcb
DTSTAMP:20260425T124735Z
SUMMARY:Chanukah Jewish Heritage Night with the Portland Trailblazers
DESCRIPTION:Jewish Federation of Greater Portland\nCommunity Calendar\nhttp
 s://jewishportland.org/community-calendar/chanukah-jewish-heritage-night-w
 ith-the-portland-trailblazers-1575577354\n\nChabad of Oregon & the Portlan
 d Trailblazers are once again partnering together for Chanukah Jewish Heri
 tage Night!\n\nWatch the Menorah lighting being viewed on the Jumbotron\, 
 wear your Hebrew "Blazers shirt" with hundreds of other Jews as the Trailb
 lazers take on the New Orleans Pelicans on the 2nd night of Chanukah!\n\nO
 rder tickets here: https://www.eventbrite.com/e/chanukah-jewish-heritage-n
 ight-with-the-portland-trailblazers-tickets-70955526891?aff=efbeventtix&fb
 clid=IwAR1d_bCUtQKd_HCW9...
DTSTART;TZID=America/Los_Angeles:20191223T180000
DTEND;TZID=America/Los_Angeles:20191223T210000
END:VEVENT
END:VCALENDAR
