BEGIN:VCALENDAR
PRODID:-//eluceo/ical//2.0/EN
VERSION:2.0
CALSCALE:GREGORIAN
BEGIN:VEVENT
UID:0ee63a656cc2b3bc494d25a961544c57
DTSTAMP:20260424T075459Z
SUMMARY:Chanukah Party with Special Guests: Michelle Alany and the Mystics
DESCRIPTION:Jewish Federation of Greater Portland\nCommunity Calendar\nhttp
 s://jewishportland.org/community-calendar/chanukah-party-with-special-gues
 ts-michelle-alany-and-the-mystics\n\nP'nai Or Chanukah Party with Special 
 Guests: Michelle Alany and the Mystics playing klezmer\, sephardic and ori
 ginal music on vocals\, violin\, clarinet\, bass\, and guitar.
DTSTART;TZID=America/Los_Angeles:20161225T160000
DTEND;TZID=America/Los_Angeles:20161225T200000
END:VEVENT
END:VCALENDAR
