BEGIN:VCALENDAR
PRODID:-//eluceo/ical//2.0/EN
VERSION:2.0
CALSCALE:GREGORIAN
BEGIN:VEVENT
UID:1cc014036f3b3e9ba99013ce680d4c4f
DTSTAMP:20260423T082836Z
SUMMARY:Chanukah Wonderland
DESCRIPTION:Jewish Federation of Greater Portland\nCommunity Calendar\nhttp
 s://jewishportland.org/community-calendar/chanukah-wonderland-1481236774\n
 \nJoin us for Portland's 5th annual Chanukah Wonderland!
DTSTART;TZID=America/Los_Angeles:20161225T110000
DTEND;TZID=America/Los_Angeles:20161225T160000
END:VEVENT
END:VCALENDAR
