BEGIN:VCALENDAR
PRODID:-//eluceo/ical//2.0/EN
VERSION:2.0
CALSCALE:GREGORIAN
BEGIN:VEVENT
UID:2ca4c55a5a36a7fef9753f9bd01bf4e8
DTSTAMP:20260424T005722Z
SUMMARY:Charlie Dinner Party
DESCRIPTION:Jewish Federation of Greater Portland\nCommunity Calendar\nhttp
 s://jewishportland.org/community-calendar/charlie-dinner-party-1698355793\
 n\nPotluck dinner hosted by Charlie. There will be games and seasonal nosh
  provided.
DTSTART;TZID=America/Los_Angeles:20231120T190000
DTEND;TZID=America/Los_Angeles:20231120T220000
END:VEVENT
END:VCALENDAR
