BEGIN:VCALENDAR
PRODID:-//eluceo/ical//2.0/EN
VERSION:2.0
CALSCALE:GREGORIAN
BEGIN:VEVENT
UID:e2a1504ef8aea1bf8057a25a26ac8290
DTSTAMP:20260422T045407Z
SUMMARY:CKA Purim Shpiel
DESCRIPTION:Jewish Federation of Greater Portland\nCommunity Calendar\nhttp
 s://jewishportland.org/community-calendar/cka-purim-shpiel-1768435635\n\nJ
 oin us for our annual Purim Shpiel. Come in costume and enjoy as we act ou
 t the book of Esther and read from the Megillah. If you plan to attend thi
 s event please email admin@jewishvancouverusa.org before arriving to be pu
 t on the list for entry.\n\nThis is also our annual "Pots for Purim" Fundr
 aiser. If you are able\, please bring a new cooking pot of pan and a new c
 ooking utensil to use as we drown out the name of the man who shall not be
  mentioned and then at the end donate those items and...
DTSTART;TZID=America/Los_Angeles:20260302T183000
DTEND;TZID=America/Los_Angeles:20260302T203000
END:VEVENT
END:VCALENDAR
