BEGIN:VCALENDAR
PRODID:-//eluceo/ical//2.0/EN
VERSION:2.0
CALSCALE:GREGORIAN
BEGIN:VEVENT
UID:8031fdfb804c2241f624d59de9303e2a
DTSTAMP:20260425T213136Z
SUMMARY:Cleo Davis on PDX’s African-American Experience
DESCRIPTION:Jewish Federation of Greater Portland\nCommunity Calendar\nhttp
 s://jewishportland.org/community-calendar/cleo-davis-on-pdxs-african-ameri
 can-experience\n\nCleo Davis on PDX’s African-American Experience - Sun\
 , Feb 16\, 9:40am\n\nJoin Neveh Shalom for this special and important talk
  by artist Cleo Davis\, offering perspectives on Portland’s African-Amer
 ican experience. $5. Free for Men’s Club members.\n\nContact: Men’s cl
 ub\,  Zachary Horowitz: zacharyhorowitz@hotmail.com
DTSTART;TZID=America/Los_Angeles:20200216T094000
DTEND;TZID=America/Los_Angeles:20200216T114000
END:VEVENT
END:VCALENDAR
