BEGIN:VCALENDAR
PRODID:-//eluceo/ical//2.0/EN
VERSION:2.0
CALSCALE:GREGORIAN
BEGIN:VEVENT
UID:2baac0cfc91d1bbecae28ea62d5c977f
DTSTAMP:20260421T005738Z
SUMMARY:CNS Chanukah Party 2021 (In-Person!)
DESCRIPTION:Jewish Federation of Greater Portland\nCommunity Calendar\nhttp
 s://jewishportland.org/community-calendar/cns-chanukah-party-2021-in-perso
 n\n\nChanukah is here! Everyone is invited to join us for a special in-per
 son Chanukah party. Together we'll light candles\, sing songs\, and enjoy 
 treats in a Covid-conscious way.\n\nWe will also have a gift exchange\, so
  please bring a wrapped gift worth no more than $20 to offer\, and you wil
 l have the opportunity to receive a gift.\n\nCLICK HERE TO REGISTER\n\nPle
 ase remember to bring packages of toilet paper for the Men's Club TP dri
 ve for Neighborhood House. It is an important and appreciated ...
DTSTART;TZID=America/Los_Angeles:20211205T170000
DTEND;TZID=America/Los_Angeles:20211205T190000
END:VEVENT
END:VCALENDAR
