BEGIN:VCALENDAR
PRODID:-//eluceo/ical//2.0/EN
VERSION:2.0
CALSCALE:GREGORIAN
BEGIN:VEVENT
UID:2462309038957f83fed572fe10b370c8
DTSTAMP:20260423T152042Z
SUMMARY:CNS Sisterhood Sunday / Rosh Chodesh
DESCRIPTION:Jewish Federation of Greater Portland\nCommunity Calendar\nhttp
 s://jewishportland.org/community-calendar/cns-sisterhood-sunday-rosh-chode
 sh-may-2017\n\nEmbrace Rosh Chodesh\, a woman's sacred time. 
DTSTART;TZID=America/Los_Angeles:20170528T123000
DTEND;TZID=America/Los_Angeles:20170528T143000
END:VEVENT
END:VCALENDAR
