BEGIN:VCALENDAR
PRODID:-//eluceo/ical//2.0/EN
VERSION:2.0
CALSCALE:GREGORIAN
BEGIN:VEVENT
UID:cc3194f3dd97382f1fc780a3c7a76932
DTSTAMP:20260424T045346Z
SUMMARY:Learn About Israel's Existential Threats on the Northern Borders - 
 Webinar
DESCRIPTION:Jewish Federation of Greater Portland\nCommunity Calendar\nhttp
 s://jewishportland.org/community-calendar/come-learn-about-israels-existen
 tial-threats-on-the-northern-borders-webinar\n\nPresenting a review of Isr
 ael’s volatile northern borders and analyzing the implications to Israel
 ’s security. Sarit Zehavi\, founder and CEO of ALMA Research & Education
  Center\, will tackle the following questions. How has the defeat of the r
 ebels in the civil war in Syria changed the IDF’s security doctrine on t
 he Syrian border? How deep is the Iranian involvement there? How is Hezbol
 lah preparing for the next conﬂict with Israel? What are the solutions (
 if any)\, and how is the U.S. ...
DTSTART;TZID=America/Los_Angeles:20200415T090000
DTEND;TZID=America/Los_Angeles:20200415T100000
END:VEVENT
END:VCALENDAR
