BEGIN:VCALENDAR
PRODID:-//eluceo/ical//2.0/EN
VERSION:2.0
CALSCALE:GREGORIAN
BEGIN:VEVENT
UID:f8b27b9903f8c8c2fbf583606766d43d
DTSTAMP:20260421T135452Z
SUMMARY:Community Passover Seder-Chabad NE
DESCRIPTION:Jewish Federation of Greater Portland\nCommunity Calendar\nhttp
 s://jewishportland.org/community-calendar/community-passover-seder-1772036
 451\n\nChabad of Northeast Portland invites you to celebrate Passover with
  an unforgettable Community Seder filled with gourmet cuisine\, meaningful
  traditions\, and joyful connection. Enjoy a warm and welcoming atmosphere
 \, engaging storytelling\, lively discussion\, and an interactive Seder ex
 perience designed for all ages. Come experience the beauty and spirit of P
 assover together with family\, friends\, and community.\n\nDates:\n\nWedne
 sday\, April 1 at 7:30 PM at Chabad Torah Center\n\nThursday\, April ...
DTSTART;TZID=America/Los_Angeles:20260401T193000
DTEND;TZID=America/Los_Angeles:20260401T220000
END:VEVENT
END:VCALENDAR
