BEGIN:VCALENDAR
PRODID:-//eluceo/ical//2.0/EN
VERSION:2.0
CALSCALE:GREGORIAN
BEGIN:VEVENT
UID:c6e80958da69e222e95c92e2979cbbf7
DTSTAMP:20260423T093737Z
SUMMARY:Community Selichot\, an evening of learning
DESCRIPTION:Jewish Federation of Greater Portland\nCommunity Calendar\nhttp
 s://jewishportland.org/community-calendar/community-selichot-an-evening-of
 -learning\n\nPlease join the Oregon Board of Rabbis on Saturday evening\, 
 September 12\, for a Selichot evening of learning\, reflection and prayer
  as we prepare to welcome in the year 5781.\n\nRegistger online to receive
  a Zoom link to participate in these sessions:\n\n \n\n1. 6:45-7:30pm Rab
 bi Elizabeth Dunsker\, "Good vs. Evil"\n\n2. 7:30pm Choose from:\n  *7:30
 -8:15pm Rabbi Ariel Stone\, “Why Black Lives Matter to Jews: Atoning for
  White Supremacy”\n*7:30-9:00pm Rabbis Hannah Laner & David Zaslow\n...
DTSTART;TZID=America/Los_Angeles:20200912T184500
DTEND;TZID=America/Los_Angeles:20200913T003000
END:VEVENT
END:VCALENDAR
