BEGIN:VCALENDAR
PRODID:-//eluceo/ical//2.0/EN
VERSION:2.0
CALSCALE:GREGORIAN
BEGIN:VEVENT
UID:4dbfd6016493b64b486ca8dbefb17eed
DTSTAMP:20260420T203732Z
SUMMARY:Confronting Hate: Antisemitism Across Geography\, Politics and Demo
 graphy
DESCRIPTION:Jewish Federation of Greater Portland\nCommunity Calendar\nhttp
 s://jewishportland.org/community-calendar/confronting-hate-antisemitism-ac
 ross-geography-politics-and-demography-1683307786\n\nLike other forms of r
 ace-based hatred\, antisemitism is\, in part\, an ideology that can be wea
 ponized to a variety of ends. As such\, antisemitism persists across the p
 olitical spectrum\, across national borders\, age\, education levels\, and
  other demographic markers.\n\nThis webinar will consider key questions ab
 out how antisemitism appears in different forms. Local writer Shane Burley
 \, Canadian filmmaker Sara Yacobi-Harris and journalist Jimmie Briggs will
  discuss how antisemitism shows up in the...
DTSTART;TZID=America/Los_Angeles:20230518T160000
DTEND;TZID=America/Los_Angeles:20230518T170000
END:VEVENT
END:VCALENDAR
