BEGIN:VCALENDAR
PRODID:-//eluceo/ical//2.0/EN
VERSION:2.0
CALSCALE:GREGORIAN
BEGIN:VEVENT
UID:93c537dc7e8aab924009e4f7d55a8c71
DTSTAMP:20260424T170513Z
SUMMARY:Curator-Led Tour\; Without End: Recent Works on Grief by Cara Levin
 e
DESCRIPTION:Jewish Federation of Greater Portland\nCommunity Calendar\nhttp
 s://jewishportland.org/community-calendar/curator-led-tour-without-end-rec
 ent-works-on-grief-by-cara-levine\n\nTour is included with admission\; Mem
 bers: Free/General Public: $5\n\nCara Levine’s multidisciplinary artwor
 k explores themes of absence\, empathy\, and equity while inviting visitor
 s to reflect on the universal\, yet deeply personal\, experience of grief.
 \n\nJoin curator Yaelle Amir for a guided tour of Without End: Recent Wo
 rks on Grief and enter into a space where loss\, memory\, and healing con
 verge.
DTSTART;TZID=America/Los_Angeles:20260503T130000
DTEND;TZID=America/Los_Angeles:20260503T140000
END:VEVENT
END:VCALENDAR
