BEGIN:VCALENDAR
PRODID:-//eluceo/ical//2.0/EN
VERSION:2.0
CALSCALE:GREGORIAN
BEGIN:VEVENT
UID:fbe4518f47997a9fc2d404e965503c1e
DTSTAMP:20260420T045039Z
SUMMARY:Docent Tour\; Psychedelicatessen: A Powerful Dose of Art by Steve M
 arcus.
DESCRIPTION:Jewish Federation of Greater Portland\nCommunity Calendar\nhttp
 s://jewishportland.org/community-calendar/docent-tour-psychedelicatessen-a
 -powerful-dose-of-art-by-steve-marcus\n\nTour is included with admission\;
  Members: Free/General Public $5\n\nSteve Marcus\, affectionately dubbed 
 the “Top Dog of Kosher Pop Art\,” brings a vibrant visual celebration 
 of art and Judaica in his exhibition Psychedelicatessen: A Powerful Dose o
 f Art. \n\nJoin for a free guided tour of Steve Marcus’ artwork inspired
  by underground comics\, Hasidism\, and the psychedelic art of the free lo
 ve era.
DTSTART;TZID=America/Los_Angeles:20260405T120000
DTEND;TZID=America/Los_Angeles:20260405T123000
END:VEVENT
END:VCALENDAR
