BEGIN:VCALENDAR
PRODID:-//eluceo/ical//2.0/EN
VERSION:2.0
CALSCALE:GREGORIAN
BEGIN:VEVENT
UID:1a094ff4aa9357a0644f488193a0d022
DTSTAMP:20260424T142829Z
SUMMARY:East Side Minyan at Shir Tikvah
DESCRIPTION:Jewish Federation of Greater Portland\nCommunity Calendar\nhttp
 s://jewishportland.org/community-calendar/east-side-minyan-at-shir-tikvah-
 1691000440\n\nCome start your week at morning minyan! We gather every Mond
 ay at 7 am at the Eastside Jewish Commons. Bring a siddur and your breakfa
 st and come pray with us!  More info on Shir Tikvah’s calendar and websi
 te
DTSTART;TZID=America/Los_Angeles:20230807T070000
DTEND;TZID=America/Los_Angeles:20230807T080000
END:VEVENT
END:VCALENDAR
