BEGIN:VCALENDAR
PRODID:-//eluceo/ical//2.0/EN
VERSION:2.0
CALSCALE:GREGORIAN
BEGIN:VEVENT
UID:e0b49ca7d87caa9f6922b28c40ee5ef7
DTSTAMP:20260420T004756Z
SUMMARY:Erev Rosh Hashanah-Kol Ami
DESCRIPTION:Jewish Federation of Greater Portland\nCommunity Calendar\nhttp
 s://jewishportland.org/community-calendar/erev-rosh-hashanah-1692147865\n\
 nJoin Congregation Kol Ami for 5784 High Holy Day services. If you would l
 ike to attend please contact admin@jewishvancouverusa.org for details.
DTSTART;TZID=America/Los_Angeles:20230915T193000
DTEND;TZID=America/Los_Angeles:20230915T213000
END:VEVENT
END:VCALENDAR
