BEGIN:VCALENDAR
PRODID:-//eluceo/ical//2.0/EN
VERSION:2.0
CALSCALE:GREGORIAN
BEGIN:VEVENT
UID:6489d0cc552d87b170346f9e28f5308e
DTSTAMP:20260419T231059Z
SUMMARY:Family Passover Experience: Kids 5-12 & Family At Shaarie Torah
DESCRIPTION:Jewish Federation of Greater Portland\nCommunity Calendar\nhttp
 s://jewishportland.org/community-calendar/family-passover-experience-kids-
 5-12-family-at-shaarie-torah\n\nLooking for a kid-friendly Pesach experien
 ce for your family? \n\nEducation Director Cara Abrams and Rabbi Gary Ezr
 a Oren offer two opportunities for families to participate in a fun model 
 Seder:\n\n\n9:30 AM - 10:30 AM Program designed for families with kids 5 
 and under\n11:00 AM - 12:00 PM Program designed for families with kids ag
 es 5-12 \n\n\nSelect the time and/or age group which best works for your 
 family! \n\nAll are welcome. RSVP by emailing cara@shaarietorah.org. \n
 \n \n...
DTSTART;TZID=America/Los_Angeles:20230402T110000
DTEND;TZID=America/Los_Angeles:20230402T120000
END:VEVENT
END:VCALENDAR
