BEGIN:VCALENDAR
PRODID:-//eluceo/ical//2.0/EN
VERSION:2.0
CALSCALE:GREGORIAN
BEGIN:VEVENT
UID:1bd10bdc714e031268d6afd3e86f4e09
DTSTAMP:20260422T173952Z
SUMMARY:Film Club: A Fortunate Man
DESCRIPTION:Jewish Federation of Greater Portland\nCommunity Calendar\nhttp
 s://jewishportland.org/community-calendar/film-club-a-fortunate-man-158285
 7914\n\nFilm Club: A Fortunate Man\n\nWatch and discuss interesting films 
 with Congregation Neveh Shalom members and others. This film is about a gi
 fted engineer who flees his austere roots to pursue wealth and success amo
 ng Copenhagen’s elite\, but the pride propelling him threatens to be his
  ruin.
DTSTART;TZID=America/Los_Angeles:20200412T160000
DTEND;TZID=America/Los_Angeles:20200412T190000
END:VEVENT
END:VCALENDAR
