BEGIN:VCALENDAR
PRODID:-//eluceo/ical//2.0/EN
VERSION:2.0
CALSCALE:GREGORIAN
BEGIN:VEVENT
UID:4d14499966a1e1235f19cea974aaa090
DTSTAMP:20260421T140126Z
SUMMARY:Find Your Future Workshop - For Adults!
DESCRIPTION:Jewish Federation of Greater Portland\nCommunity Calendar\nhttp
 s://jewishportland.org/community-calendar/find-your-future-workshop-for-ad
 ults-winter-2020\n\nOrganize Yourself for Success with Tina-Marie Baskin\,
  J.D.\nOne-on-one coaching and materials will be provided.\n\nDecrease you
 r stress and increase your productivity with techniques you can easily inc
 orporate into your busy life. Topics include: time and project management\
 , goal setting\, calendaring\, and mindfulness to help you balance all of 
 your demands.\n\nThursdays\, February 6 - March 5\n11:00 am - 12:15 pm\, S
 1211\nCost per four-week session: $56.\nMember Cost per four-week session:
  $48....
DTSTART;TZID=America/Los_Angeles:20200206T110000
DTEND;TZID=America/Los_Angeles:20200206T121500
END:VEVENT
END:VCALENDAR
