BEGIN:VCALENDAR
PRODID:-//eluceo/ical//2.0/EN
VERSION:2.0
CALSCALE:GREGORIAN
BEGIN:VEVENT
UID:68f71189c3ad13f9b6a73bc39f703f28
DTSTAMP:20260419T212441Z
SUMMARY:Find Your Future Workshops
DESCRIPTION:Jewish Federation of Greater Portland\nCommunity Calendar\nhttp
 s://jewishportland.org/community-calendar/find-your-future-workshops-janua
 ry2-2020\n\nOrganize Yourself for Success: For Grades 9 - 12\nHelp your st
 udent learn new study skills to maximize their efficiency and decrease str
 ess. This motivation-based approach builds students’ academic confidence
  and organizational skills.\nInstructor: Tina-Marie Baskin\nPer Session: C
 ost: $56. Member Cost: $48.\n\nFor Grades 9 - 12\nSession I: Thursdays\nJa
 nuary 9 - 30\n4:00 - 5:15 pm\, SI209B\n\nRegister: oregonjcc.org/registrat
 ion
DTSTART;TZID=America/Los_Angeles:20200109T160000
DTEND;TZID=America/Los_Angeles:20200109T171500
END:VEVENT
END:VCALENDAR
