BEGIN:VCALENDAR
PRODID:-//eluceo/ical//2.0/EN
VERSION:2.0
CALSCALE:GREGORIAN
BEGIN:VEVENT
UID:d09ca59ae749e8fb9ca702abb7af7b05
DTSTAMP:20260425T033037Z
SUMMARY:First Night of Passover Community Theatrical Seder at Gesher
DESCRIPTION:Jewish Federation of Greater Portland\nCommunity Calendar\nhttp
 s://jewishportland.org/community-calendar/first-night-of-passover-communit
 y-theatrical-seder-at-gesher-265221\n\nFirst Night of Passover Community T
 heatrical Seder at Gesher
DTSTART;TZID=America/Los_Angeles:20180330T173000
DTEND;TZID=America/Los_Angeles:20180330T213000
END:VEVENT
END:VCALENDAR
