BEGIN:VCALENDAR
PRODID:-//eluceo/ical//2.0/EN
VERSION:2.0
CALSCALE:GREGORIAN
BEGIN:VEVENT
UID:621d04243d29145bcbd5e5e948008833
DTSTAMP:20260420T061220Z
SUMMARY:Fragments: Yoni Avi Battat in Concert
DESCRIPTION:Jewish Federation of Greater Portland\nCommunity Calendar\nhttp
 s://jewishportland.org/community-calendar/fragments-yoni-avi-battat-in-con
 cert-1775609151\n\nYoni Avi Battat amplifies and transforms the echoes of 
 his Iraqi-Jewish ancestry to broaden perspectives\, touch hearts\, and bui
 ld community.
DTSTART;TZID=America/Los_Angeles:20260506T193000
DTEND;TZID=America/Los_Angeles:20260506T213000
END:VEVENT
END:VCALENDAR
