BEGIN:VCALENDAR
PRODID:-//eluceo/ical//2.0/EN
VERSION:2.0
CALSCALE:GREGORIAN
BEGIN:VEVENT
UID:fa84e72e59a68473d8a0390364a0a21b
DTSTAMP:20260425T011203Z
SUMMARY:Freedom\, a new rock musical inspired by the story of Moses
DESCRIPTION:Jewish Federation of Greater Portland\nCommunity Calendar\nhttp
 s://jewishportland.org/community-calendar/freedom-a-new-rock-musical-inspi
 red-by-the-story-of-moses-1773081462\n\nHavurah Shalom member Chari Smith 
 is bringing a bold new rock musical to the stage! Freedom\, inspired by th
 e story of Moses and the powerful women in his life\, will have its first-
 ever staged reading on Sunday\, April 12 as part of the Fertile Ground Fes
 tival of New Works at Hillsboro Artists’ Regional Theatre (HART). Two wa
 ys to watch: 1. Live one night only April and 2. Watch it Online with acce
 ss to watch it for a two week period. Tickets and more information at - ht
 tps://www.charismith.com/
DTSTART;TZID=America/Los_Angeles:20260412T193000
DTEND;TZID=America/Los_Angeles:20260412T213000
END:VEVENT
END:VCALENDAR
