BEGIN:VCALENDAR
PRODID:-//eluceo/ical//2.0/EN
VERSION:2.0
CALSCALE:GREGORIAN
BEGIN:VEVENT
UID:0b09b5a9753b677d069e649aca34bbe0
DTSTAMP:20260419T191723Z
SUMMARY:Gates of Light with Rabbi Joshua Rose
DESCRIPTION:Jewish Federation of Greater Portland\nCommunity Calendar\nhttp
 s://jewishportland.org/community-calendar/gates-of-light-with-rabbi-joshua
 -rose-march-2020\n\nGates of Light: A New-Old Approach to Torah and Kabbal
 ah\nJewish mysticism helps us understand the Torah\, the world\, and ourse
 lves. Delve into the core teachings of the majestic Kabbalistic tradition.
  Red bracelets aren’t going to do it - dig deep into the texts and into 
 ourselves. Join Rabbi Joshua Rose for a look into the book Sha’arei Orah
  - Gates of Light.\n\nMonday\, March 16\n2:30 - 3:25 pm\nFree and open to 
 the community.\nIn partnership with Congregation Shaarie Torah
DTSTART;TZID=America/Los_Angeles:20200316T143000
DTEND;TZID=America/Los_Angeles:20200316T153000
END:VEVENT
END:VCALENDAR
