BEGIN:VCALENDAR
PRODID:-//eluceo/ical//2.0/EN
VERSION:2.0
CALSCALE:GREGORIAN
BEGIN:VEVENT
UID:9e3ef14bb471a224b341e231a6538788
DTSTAMP:20260420T154044Z
SUMMARY:HAMANTASH BAKE for Women
DESCRIPTION:Jewish Federation of Greater Portland\nCommunity Calendar\nhttp
 s://jewishportland.org/community-calendar/hamantash-bake-1739905297\n\nFOR
  LADIES & SENIORS\n$20 A PERSON\nSENIORS JOIN FREE\nRSVP HERE:\nhttps://ww
 w.chabadh.com/events/hamantash-bake
DTSTART;TZID=America/Los_Angeles:20250302T190000
DTEND;TZID=America/Los_Angeles:20250302T210000
END:VEVENT
END:VCALENDAR
